BEGIN:VCALENDAR
VERSION:2.0
PRODID:spatie/icalendar-generator
DESCRIPTION:Veranstaltungen von Tennisclub Cottbus
X-WR-CALDESC:Veranstaltungen von Tennisclub Cottbus
REFRESH-INTERVAL;VALUE=DURATION:PT1440M
X-PUBLISHED-TTL:PT1440M
BEGIN:VTIMEZONE
TZID:Etc/GMT+0
BEGIN:STANDARD
DTSTART:20240702T100000Z
TZOFFSETFROM:+0000
TZOFFSETTO:+0000
END:STANDARD
END:VTIMEZONE
BEGIN:VTIMEZONE
TZID:UTC
BEGIN:STANDARD
DTSTART:20250725T085124Z
TZOFFSETFROM:+0000
TZOFFSETTO:+0000
END:STANDARD
END:VTIMEZONE
BEGIN:VEVENT
UID:575-8
DTSTAMP:20260421T085124Z
SUMMARY:Arbeitseinsatz 10.00 Uhr
LOCATION:Tennisclub Cottbus (TCC) Eichenpark 2  Cottbus  03050
ORGANIZER;CN=admin:MAILTO:jens.jupe@fit4on.de
DTSTART;TZID=Etc/GMT+0:20250329T100000
DTEND;TZID=Etc/GMT+0:20250329T180000
X-ALT-DESC;FMTTYPE=TEXT/HTML:<p>29.03.2025\, 10.00 Uhr Arbeitseinsatz.<br />\nGerne Heckenscheren mitbringen\, wer hat. Arbeitsstunden können über 
 das Platzbuchungssystem eingetragen werden. Ansonsten bitten wir um An- un
 d Abmeldung bei Stephan oder mir  bzw. selbständiges Eintragen in Teilneh
 merlisten beim Arbeitseinsatz.</p>\n
CATEGORIES:Termine / Veranstaltungen
URL;VALUE=URI:https://tennisclubcottbus.de/mc-events/arbeitseinsatz-10-00-u
 hr/
METHOD:PUBLISH
END:VEVENT
END:VCALENDAR